BEGIN:VCALENDAR
VERSION:2.0
PRODID:-//Eventin//Event Calendar//EN
CALSCALE:GREGORIAN
METHOD:PUBLISH
BEGIN:VEVENT
UID:af66071ef8640f3b99e494ce8d19ee46@1609collective.com
SUMMARY:Hot Girl Walk + Yap
DESCRIPTION:Come for the walk\, stay for the yaps. Get your steps in for th
 e day with our weekly walk\, the perfect balance of social + fitness. We wa
 lk early to beat the heat + still give you the rest of your Saturday to enj
 oy. We also do a weather call by 7:30am the day of.\nLocation: Riddles Bay\
 , meeting in the main parking lot\nNotes: Future walking meetups will be av
 ailable to members only starting in mid-May. Water\, sunscreen + hat recomm
 ended. Small humans + furry friends are also welcome to join.
LOCATION:Riddles Bay
DTSTAMP:20260421T124224Z
DTSTART:20260516T113000Z
DTEND:20260516T133000Z
END:VEVENT
END:VCALENDAR
