BEGIN:VCALENDAR
VERSION:2.0
PRODID:-//Eventin//Event Calendar//EN
CALSCALE:GREGORIAN
METHOD:PUBLISH
BEGIN:VEVENT
UID:cbcf33781f2b72de249ddecbe17c3c70@1609collective.com
SUMMARY:Coffee x Coworking
DESCRIPTION:Join us for our monthly Coffee x Coworking session. A great way
  to be productive while connecting with other ladies. Whether you bring you
 r laptop to work on a large project or pop by for an hour to say hi\, this 
 is a casual mid-week meetup.\nThis is a come when you can + stay as long as
  you need event\, so while the time is showing 4 hours\, you can feel free 
 to come for as long as you desire.\n 
LOCATION:Duchess Cafe / Hamilton Princess
DTSTAMP:20260421T124334Z
DTSTART:20260506T130000Z
DTEND:20260506T170000Z
END:VEVENT
END:VCALENDAR
