BEGIN:VCALENDAR
VERSION:2.0
PRODID:-//Eventin//Event Calendar//EN
CALSCALE:GREGORIAN
METHOD:PUBLISH
BEGIN:VEVENT
UID:e099234130743c0584446eff14043956@1609collective.com
SUMMARY:Hot Girl Walk + Yap
DESCRIPTION:Come for the walk\, stay for the yaps. Get your steps in for th
 e day with our weekly walk\, the perfect balance of social + fitness. We wa
 lk early to beat the heat + still give you the rest of your Saturday to enj
 oy. We also do a weather call by 7:30am the day of. \nLocation: Arboretum\
 , meeting in the parking lot\nNotes: Future walking meetups will be availab
 le to members only starting in mid-May. Water\, sunscreen + hat recommended
 . Small humans + furry friends are also welcome to join.
LOCATION:Arboretum
DTSTAMP:20260421T125240Z
DTSTART:20260502T113000Z
DTEND:20260502T133000Z
END:VEVENT
END:VCALENDAR
