BEGIN:VCALENDAR
VERSION:2.0
PRODID:-//Eventin//Event Calendar//EN
CALSCALE:GREGORIAN
METHOD:PUBLISH
BEGIN:VEVENT
UID:15c849a9d7cafc95f8922f8cfab88df4@1609collective.com
SUMMARY:Hot Girl Walk + Yap
DESCRIPTION:Come for the walk\, stay for the yaps. Get your steps in for th
 e day with our weekly walk\, the perfect balance of social + fitness. We wa
 lk early to beat the heat + still give you the rest of your Saturday to enj
 oy.\nLocation: TBD\nNotes: Future walking meetups will be available to memb
 ers only starting in May. Water\, sunscreen + hat recommended. Small humans
  + furry friends are also welcome to join.
LOCATION:TBD
DTSTAMP:20260421T141853Z
DTSTART:20260425T113000Z
DTEND:20260425T133000Z
END:VEVENT
END:VCALENDAR
