BEGIN:VCALENDAR
VERSION:2.0
PRODID:-//Eventin//Event Calendar//EN
CALSCALE:GREGORIAN
METHOD:PUBLISH
BEGIN:VEVENT
UID:62d6032c8c2eb30af85aeba6f64282dc@1609collective.com
SUMMARY:Pickleball Social
DESCRIPTION:Let's pickleball together. Get your workout in + have some fun 
 with the ladies. Join us for a pickleball event at Newstead Tennis Courts. 
 Expect to learn the basics of pickleball\, have free time to play + sociali
 ze with the girlies. Come dressed to break a sweat\, but also snag a few se
 lfies with the girls.\nAll tickets include access to the event\, paddle ren
 tal\, refreshing non-alcoholic beverages + gift bags.
LOCATION:Newstead Belmont Hills Tennis Court
DTSTAMP:20260421T124213Z
DTSTART:20260517T173000Z
DTEND:20260517T203000Z
END:VEVENT
END:VCALENDAR
