BEGIN:VCALENDAR
VERSION:2.0
PRODID:-//Eventin//Event Calendar//EN
CALSCALE:GREGORIAN
METHOD:PUBLISH
BEGIN:VEVENT
UID:e63a92918be691ad7fa4cfeb811ad7e5@1609collective.com
SUMMARY:Ladies Connect: Happy Hour
DESCRIPTION:A monthly\, after work gathering. Come get a glimpse of what me
 mbership with 1609 Collective looks like. Join us for cocktail (or mocktail
 ) + unwind with the ladies. This is an intimate meetup with 10 spots availa
 ble. \nNote: Each attendee is responsible for paying for their own beverag
 es + apps for the table will be provided.
LOCATION:The Cloud
DTSTAMP:20260421T124223Z
DTSTART:20260430T203000Z
DTEND:20260430T230000Z
END:VEVENT
END:VCALENDAR
