BEGIN:VCALENDAR
VERSION:2.0
PRODID:-//Eventin//Event Calendar//EN
CALSCALE:GREGORIAN
METHOD:PUBLISH
BEGIN:VEVENT
UID:3f88be5e6f03388a132dbe3db29a3ebd@1609collective.com
SUMMARY:Founding Members Brunch
DESCRIPTION:You're invited to the Founding Member's Brunch! This affair wil
 l be a gathering of all founding members to connect + also receive exclusiv
 e gifts. Expect delicious eats\, laughs + a stunning view of the ocean at t
 he always beautiful Pink Beach Club @ The Loren.\nBrunch is a pre-fixe $75p
 p + beverages\, which will be paid there. Check out the menu in advance her
 e.
LOCATION:The Pink Beach Club @ The Loren
DTSTAMP:20260421T123742Z
DTSTART:20260531T143000Z
DTEND:20260531T173000Z
END:VEVENT
END:VCALENDAR
