BEGIN:VCALENDAR
VERSION:2.0
PRODID:-//Eventin//Event Calendar//EN
CALSCALE:GREGORIAN
METHOD:PUBLISH
BEGIN:VEVENT
UID:03492970d20ef36f83db99590f5a3e43@1609collective.com
SUMMARY:Ladies Connect: Girls Night In
DESCRIPTION:Because sometimes you just need a girls night IN. Join us for p
 izza\, Netflix\, heart to hearts + chill vibes at Treehouse Bermuda. This l
 aid back get together is a perfect space to connect with a fun\, welcoming 
 group of ladies + have candid conversations with new faces. It's a must att
 end if you're looking to connect.\nTicket includes pizza + selection of non
 alcoholic beverages + water.
LOCATION:Treehouse Bermuda
DTSTAMP:20260421T125130Z
DTSTART:20260521T203000Z
DTEND:20260521T233000Z
END:VEVENT
END:VCALENDAR
